BEGIN:VCALENDAR
VERSION:2.0
PRODID:-//Sophicity/Tribune/City Of Oxford
BEGIN:VEVENT
DTSTAMP:20260422T135628Z
UID:8448d9c1-dbf7-46d3-ad16-95df5c9a5f3c-8699
DTSTART:20260126T210000Z
DTEND:20260126T230000Z
LOCATION:ZOOM
CLASS:PUBLIC
SUMMARY:Sustainability Committee Meeting
END:VEVENT
END:VCALENDAR
